BEGIN:VCALENDAR
VERSION:2.0
PRODID:-//DIS-Väst - ECPv6.15.14//NONSGML v1.0//EN
CALSCALE:GREGORIAN
METHOD:PUBLISH
X-WR-CALNAME:DIS-Väst
X-ORIGINAL-URL:https://dis-vast.o.se
X-WR-CALDESC:Händelser för DIS-Väst
REFRESH-INTERVAL;VALUE=DURATION:PT1H
X-Robots-Tag:noindex
X-PUBLISHED-TTL:PT1H
BEGIN:VTIMEZONE
TZID:UTC
BEGIN:STANDARD
TZOFFSETFROM:+0000
TZOFFSETTO:+0000
TZNAME:UTC
DTSTART:20250101T000000
END:STANDARD
END:VTIMEZONE
BEGIN:VEVENT
DTSTART;TZID=UTC:20260428T000000
DTEND;TZID=UTC:20260428T235959
DTSTAMP:20260420T123016
CREATED:20260106T190826Z
LAST-MODIFIED:20260106T190826Z
UID:2844-1777334400-1777420799@dis-vast.o.se
SUMMARY:Öppet hus för egen släktforskning 10-14
DESCRIPTION:
URL:https://dis-vast.o.se/aktivitet/oppet-hus-for-egen-slaktforskning-10-14-8/
LOCATION:Gamla torget Mölndal\, Gamla Torget 43B\, Mölndal\, Sweden
CATEGORIES:Öppet hus för egen släktforskning
END:VEVENT
END:VCALENDAR